BEGIN:VCALENDAR
VERSION:2.0
PRODID:-//Instituto Dra. &Aacute;ngela Gandaria - ECPv6.15.20//NONSGML v1.0//EN
CALSCALE:GREGORIAN
METHOD:PUBLISH
X-WR-CALNAME:Instituto Dra. &Aacute;ngela Gandaria
X-ORIGINAL-URL:https://draangelagandaria.com
X-WR-CALDESC:Eventos para Instituto Dra. &Aacute;ngela Gandaria
REFRESH-INTERVAL;VALUE=DURATION:PT1H
X-Robots-Tag:noindex
X-PUBLISHED-TTL:PT1H
BEGIN:VTIMEZONE
TZID:UTC
BEGIN:STANDARD
TZOFFSETFROM:+0000
TZOFFSETTO:+0000
TZNAME:UTC
DTSTART:20230101T000000
END:STANDARD
END:VTIMEZONE
BEGIN:VEVENT
DTSTART;TZID=UTC:20240611T180000
DTEND;TZID=UTC:20240611T200000
DTSTAMP:20260419T193804
CREATED:20240531T093005Z
LAST-MODIFIED:20240602T215205Z
UID:1762-1718128800-1718136000@draangelagandaria.com
SUMMARY:Workshop Inteligencia Artificial aplicada a la Estética
DESCRIPTION:¡Participa en los Workshops del Instituto Ángela Gandaria: Medicina Holística Avanzada!\nSesiones enfocadas en compartir recursos de autocuidado de la salud\, la estética y el bienestar de la mano de los mejores expertos.\n\nmartes\, 11 de junio | 18:00h\n  \nSobre el Workshop “Inteligencia Artificial aplicada la Estética”\n  \nLa Inteligencia Artificial ha llegado para quedarse\, y junto a todas las funcionalidades que se van conociendo también tiene una gran utilidad para la Estética\, tanto facial como corporal.  Esto permite optimizar al máximo el diagnóstico de afecciones de la piel y de signos del envejecimiento\, así como personalizar los tratamientos que mejor se ajusten a cada condición.\n\nEste taller demostrativo tiene como objetivo presentar una herramienta que utiliza la Inteligencia Artificial para ayudarte a tener un Diagnóstico en minutos sobre tu piel\, conocer según tus hábitos e historial genético las mejores recomendaciones para un plan de rejuvenecimiento altamente efectivo.\n\n\nParticipa en este Workshop gratuito que incluye:\n  \n-Escaneo Facial de última generación y Diagnóstico personalizado en 4D.\n-Exploración de tus genes para Rejuvenecimiento efectivo.\n-Recomendación de productos personalizados.\n-Consejos de Autocuidado de cara al verano y sus efectos en la piel.\n  \n  \nAdemás si participas te llevas una oferta de 10% de descuento en el tratamiento de tu elección.\n  \nUn workshop impartido por Ana Mena:\n  \n \n  \nEmpresaria\, titulada en administración y marketing. Experta en Ayuno intermitente y belleza & bienestar con el uso de nuevas tecnologías. \n  \n\n\nINSCRÍBETE AQUÍ:\n  \n\n                \n                        Nombre\n                            \n                            \n                                                    \n                                                    Nombre\n                                                \n                            \n                            \n                                                    \n                                                    Apellidos\n                                                \n                            \n                        TeléfonoEmail\n                            \n                        Consentimiento(Obligatorio) Estoy de acuerdo con la Política de Protección de Datos"Responsable del tratamiento: Angela Gandaria\n· Finalidad: gestionar el envío de información\, eventos y noticias relacionada con la actividad del Instituto Angela Gandaria.\n· Legitimación: consentimiento del interesado.\n· Destinatarios: no se cederán datos a terceros\, salvo obligación legal.\n· Derechos: podrá ejercer los derechos de acceso\, rectificación\, limitación de tratamiento\, supresión\, portabilidad y oposición al tratamiento de sus datos de carácter personal\, así como a la retirada del consentimiento prestado para el tratamiento de los mismos.\n· Información adicional: puede consultar la información detallada sobre Protección de Datos en esta página web: draangelagandaria.com
URL:https://draangelagandaria.com/event/workshop-inteligencia-artificial-aplicada-a-la-estetica/
LOCATION:Instituto Ángela Gandaria\, Calle Sierra Blanca 1\, 6D\, marbella\, Malaga\, 29601\, España
CATEGORIES:Workshop
ATTACH;FMTTYPE=image/jpeg:https://draangelagandaria.com/wp-content/uploads/2024/05/WORKSHOP-Ana-Paula-1.jpg
ORGANIZER;CN="Instituto %C3%81ngela Gandaria":MAILTO:info@draangelagandaria.com
END:VEVENT
BEGIN:VEVENT
DTSTART;TZID=UTC:20240614T180000
DTEND;TZID=UTC:20240614T200000
DTSTAMP:20260419T193804
CREATED:20240612T075556Z
LAST-MODIFIED:20240612T080942Z
UID:1781-1718388000-1718395200@draangelagandaria.com
SUMMARY:Workshop Inteligencia Artificial aplicada a la Estética
DESCRIPTION:¡Participa en los Workshops del Instituto Ángela Gandaria: Medicina Holística Avanzada!\nSesiones enfocadas en compartir recursos de autocuidado de la salud\, la estética y el bienestar de la mano de los mejores expertos.\n\nviernes\, 14 de junio | 18:00h\n  \nSobre el Workshop “Inteligencia Artificial aplicada la Estética”\n  \nLa Inteligencia Artificial ha llegado para quedarse\, y junto a todas las funcionalidades que se van conociendo también tiene una gran utilidad para la Estética\, tanto facial como corporal.  Esto permite optimizar al máximo el diagnóstico de afecciones de la piel y de signos del envejecimiento\, así como personalizar los tratamientos que mejor se ajusten a cada condición.\n\nEste taller demostrativo tiene como objetivo presentar una herramienta que utiliza la Inteligencia Artificial para ayudarte a tener un Diagnóstico en minutos sobre tu piel\, conocer según tus hábitos e historial genético las mejores recomendaciones para un plan de rejuvenecimiento altamente efectivo.\n\n\nParticipa en este Workshop gratuito que incluye:\n  \n-Escaneo Facial de última generación y Diagnóstico personalizado en 4D.\n-Exploración de tus genes para Rejuvenecimiento efectivo.\n-Recomendación de productos personalizados.\n-Consejos de Autocuidado de cara al verano y sus efectos en la piel.\n  \n  \nAdemás si participas te llevas una oferta de 10% de descuento en el tratamiento de tu elección.\n  \nUn workshop impartido por Ana Mena:\n  \n \n  \nEmpresaria\, titulada en administración y marketing. Experta en Ayuno intermitente y belleza & bienestar con el uso de nuevas tecnologías.\n  \n\n  \nAsí fue nuestro anterior Workshop:\n  \n\n			\n				\n			\n			\n				\n			\n			\n				\n			\n			\n				\n			\n			\n				\n			\n			\n				\n			\n		\n\n\nINSCRÍBETE AQUÍ:\n  \n\n                \n                        Nombre\n                            \n                            \n                                                    \n                                                    Nombre\n                                                \n                            \n                            \n                                                    \n                                                    Apellidos\n                                                \n                            \n                        TeléfonoEmail\n                            \n                        Consentimiento(Obligatorio) Estoy de acuerdo con la Política de Protección de Datos"Responsable del tratamiento: Angela Gandaria\n· Finalidad: gestionar el envío de información\, eventos y noticias relacionada con la actividad del Instituto Angela Gandaria.\n· Legitimación: consentimiento del interesado.\n· Destinatarios: no se cederán datos a terceros\, salvo obligación legal.\n· Derechos: podrá ejercer los derechos de acceso\, rectificación\, limitación de tratamiento\, supresión\, portabilidad y oposición al tratamiento de sus datos de carácter personal\, así como a la retirada del consentimiento prestado para el tratamiento de los mismos.\n· Información adicional: puede consultar la información detallada sobre Protección de Datos en esta página web: draangelagandaria.com
URL:https://draangelagandaria.com/event/workshop-inteligencia-artificial-aplicada-a-la-estetica-2/
LOCATION:Instituto Ángela Gandaria\, Calle Sierra Blanca 1\, 6D\, marbella\, Malaga\, 29601\, España
CATEGORIES:Workshop
ATTACH;FMTTYPE=image/jpeg:https://draangelagandaria.com/wp-content/uploads/2024/06/WORKSHOP-Ana-Paula-2.jpg
ORGANIZER;CN="Instituto %C3%81ngela Gandaria":MAILTO:info@draangelagandaria.com
END:VEVENT
END:VCALENDAR